BEGIN:VCALENDAR
VERSION:2.0
PRODID:-//Fangout//Bilet.rs//SR
CALSCALE:GREGORIAN
METHOD:PUBLISH
BEGIN:VEVENT
UID:295@app.bilet.rs
DTSTAMP:20260419T121237Z
DTSTART:20260508T190000Z
DTEND:20260509T110000Z
SUMMARY:DZA ILI BU u Nišu
DESCRIPTION:Organizator: DEJAN MILOJEVIC PR \n\nhttps://app.bilet.rs/events/295/dza-ili-bu-u-nisu
LOCATION:Klub Livnica\, Niš
URL:https://app.bilet.rs/events/295/dza-ili-bu-u-nisu
END:VEVENT
END:VCALENDAR
