BEGIN:VCALENDAR
VERSION:2.0
PRODID:-//Fangout//Bilet.rs//SR
CALSCALE:GREGORIAN
METHOD:PUBLISH
BEGIN:VEVENT
UID:293@app.bilet.rs
DTSTAMP:20260419T120251Z
DTSTART:20260508T200000Z
DTEND:20260508T230000Z
SUMMARY:TurboTrans Turisti + Phony Job
DESCRIPTION:Organizator: Klub Feedback Nis\n\nTurboTrans Turisti + Phony Job\n\nhttps://app.bilet.rs/events/293/turbotrans-turisti-phony-job
LOCATION:Feedback - Nis
URL:https://app.bilet.rs/events/293/turbotrans-turisti-phony-job
END:VEVENT
END:VCALENDAR
