BEGIN:VCALENDAR
VERSION:2.0
PRODID:-//Fangout//Bilet.rs//SR
CALSCALE:GREGORIAN
METHOD:PUBLISH
BEGIN:VEVENT
UID:288@app.bilet.rs
DTSTAMP:20260419T120752Z
DTSTART:20260508T210000Z
DTEND:20260509T030000Z
SUMMARY:REJVERS • Istina Mašina
DESCRIPTION:Organizator: Istina Masina PR\n\nhttps://app.bilet.rs/events/288/rejvers-istina-masina
LOCATION:Bulevar 12.Februar 76
URL:https://app.bilet.rs/events/288/rejvers-istina-masina
END:VEVENT
END:VCALENDAR
