BEGIN:VCALENDAR
VERSION:2.0
PRODID:-//Fangout//Bilet.rs//SR
CALSCALE:GREGORIAN
METHOD:PUBLISH
BEGIN:VEVENT
UID:276@app.bilet.rs
DTSTAMP:20260419T120403Z
DTSTART:20260508T193000Z
DTEND:20260508T214500Z
SUMMARY:Amy LaVere & Will Sexton u Zaječaru
DESCRIPTION:Organizator: BAD MUSIC FOR BAD PEOPLE\n\nAmy LaVere i njen suprug Will Sexton sviraće početkom maja u Zaječaru. Prošlo je 10 godina od njihovog poslednjeg nastupa kod nas.\n\nAmy LaVere je kantautorka koja peva i svira bas i kontrabas. Njen slatki sopran prepoznatljiv je “na prvu” i jedan je od upečatljivijih u današnjoj alt country ponudi. Mentor joj je bio legendarni Jim Dickinson\, a saradnici na albumima pored njega Jimbo Mathus\, David Cousar\, Luther Dickinson\, John Paul Keith i mnogi drugi.\n\nUoči objavljivanja prvog albuma Amy se pojavljuje i u dva filma s početka ovog stoleća: „Walk The Line“ iz 2005. (u ulozi Wande Jackson) i „Black Snake Moan“ iz 2006.\n\nAlbumi koji su usledili uvrstili su je u sam vrh modernog americana žanra\, a njen sugestivni\, karakteristični glas tri puta zaredom odneo je pobedu kao najlepši u Memfisu u oštroj konkurenciji koleginica kao što su Shannon McNally i Valerie June.\n\nWill je mlađi brat Charlieja Sextona (dugogodišnji gitarista Boba Dylana\, poznati studijski muzičar) sa kojim je imao prve bendove pre nego što je postao cenjeni autor\, producent i studijski muzičar. Briljantan\, virtuozni gitarista kome nije\nstrano da se raspeva kad zatreba jer i to ume. Osim toga bio je ortak tri velika rokenrol heroja (Roky Erickson\, Johnny Thunders i Townes Van Zandt). Nekima je samo to dovoljno da veruju ovom gospodinu iz Ostina.\n\nBračni par LaVere/Sexton vraća se posle punih deset godina. Svašta se izdešavalo u međuvremenu i kod njih\, i kod nas\, pa će ovo biti zgoda da se razmene iskustva kako smo (pre)živeli godine kada je svet krupnim koracima započeo put u tri lepe.\n\nZaječarski koncert održaće se 8. maja u Bumbar kafeu\, početak u 21:30. Cena ulaznice 900 din\, na dan koncerta 1000 din. Pretprodaja: Bilet.rs.\n\nhttps://amylavere.com/\n\nhttps://www.facebook.com/AmyLaVere\n\nhttps://en.wikipedia.org/wiki/Amy_LaVere\n\nhttps://biglegalmessrecords.com/collections/will-sexton\n\nhttps://app.bilet.rs/events/276/amy-lavere-will-sexton-u-zajecaru
LOCATION:Bumbar kafe Zaječar
URL:https://app.bilet.rs/events/276/amy-lavere-will-sexton-u-zajecaru
END:VEVENT
END:VCALENDAR
