BEGIN:VCALENDAR
VERSION:2.0
PRODID:-//Fangout//Bilet.rs//SR
CALSCALE:GREGORIAN
METHOD:PUBLISH
BEGIN:VEVENT
UID:262@app.bilet.rs
DTSTAMP:20260419T120531Z
DTSTART:20260507T190000Z
DTEND:20260507T210000Z
SUMMARY:GEMINNI
DESCRIPTION:Organizator: Heroj VRBG\n\nGeminni izlazi pred beogradsku publiku prvi put.\n\nPesme koje već znaš  „Metar sreće“\, „Ne znam šta da radim“\, „Gde smo sad“  sada ćeš slušati uživo.\n\nObezbedi svoju kartu na vreme!\n\nNismo sami na bini\, saznaćeš uskoro ko dolazi.\n\n🎟️ Broj mesta je ograničen.\n\nhttps://app.bilet.rs/events/262/geminni
LOCATION:SPRAT\, Cetinjska 15
URL:https://app.bilet.rs/events/262/geminni
END:VEVENT
END:VCALENDAR
